BEGIN:VCALENDAR
VERSION:2.0
PRODID:-//eventon.com NONSGML v1.0//EN
CALSCALE:GREGORIAN
METHOD:PUBLISH
BEGIN:VEVENT
UID:69e8b90a6e50e
DTSTAMP:20260422T120322Z
DTSTART:20260418T140000Z
DTEND:20260418T170000Z
LOCATION:
SUMMARY:Healthy Kids Day
DESCRIPTION:Celebrate 175 years of strengthening communities with the Y at&
 nbsp;Healthy Kids Day—a free\,  all-day event with special activities fro
 m 10 AM–1 PM packed with fun\,  hands-on activities for kids of all ages.
  Families can explore active play\,  nutrition\,  STEM discovery\,  creativ
 e movement\,  and more—designed to help every child thrive. From[..]\nhtt
 ps://packingdistrictorlando.com/events/healthy-kids-day/
URL:https://packingdistrictorlando.com/events/healthy-kids-day/
END:VEVENT
END:VCALENDAR